BEGIN:VCALENDAR
VERSION:2.0
PRODID:-//WALKINGTRIBE - ECPv6.15.20//NONSGML v1.0//EN
CALSCALE:GREGORIAN
METHOD:PUBLISH
X-ORIGINAL-URL:https://walkingtribe.ke
X-WR-CALDESC:Events for WALKINGTRIBE
REFRESH-INTERVAL;VALUE=DURATION:PT1H
X-Robots-Tag:noindex
X-PUBLISHED-TTL:PT1H
BEGIN:VTIMEZONE
TZID:Africa/Nairobi
BEGIN:STANDARD
TZOFFSETFROM:+0300
TZOFFSETTO:+0300
TZNAME:EAT
DTSTART:20250101T000000
END:STANDARD
END:VTIMEZONE
BEGIN:VEVENT
DTSTART;VALUE=DATE:20260328
DTEND;VALUE=DATE:20260329
DTSTAMP:20260421T230248
CREATED:20260205T114807Z
LAST-MODIFIED:20260327T211921Z
UID:10000005-1774656000-1774742399@walkingtribe.ke
SUMMARY:March Edition
DESCRIPTION:
URL:https://walkingtribe.ke/event/march-edition/
LOCATION:Galleria Mall\, Galleria Mall\, Nairobi\, Kenya
ATTACH;FMTTYPE=image/webp:https://walkingtribe.ke/wp-content/uploads/2026/03/WALKINGTRIBE-March-Edition.webp
END:VEVENT
END:VCALENDAR