BEGIN:VCALENDAR
VERSION:2.0
PRODID:-//WALKINGTRIBE - ECPv6.15.20//NONSGML v1.0//EN
CALSCALE:GREGORIAN
METHOD:PUBLISH
X-ORIGINAL-URL:https://walkingtribe.ke
X-WR-CALDESC:Events for WALKINGTRIBE
REFRESH-INTERVAL;VALUE=DURATION:PT1H
X-Robots-Tag:noindex
X-PUBLISHED-TTL:PT1H
BEGIN:VTIMEZONE
TZID:Africa/Nairobi
BEGIN:STANDARD
TZOFFSETFROM:+0300
TZOFFSETTO:+0300
TZNAME:EAT
DTSTART:20250101T000000
END:STANDARD
END:VTIMEZONE
BEGIN:VEVENT
DTSTART;VALUE=DATE:20260328
DTEND;VALUE=DATE:20260329
DTSTAMP:20260421T233651
CREATED:20260205T114807Z
LAST-MODIFIED:20260327T211921Z
UID:10000005-1774656000-1774742399@walkingtribe.ke
SUMMARY:March Edition
DESCRIPTION:
URL:https://walkingtribe.ke/event/march-edition/
LOCATION:Galleria Mall\, Galleria Mall\, Nairobi\, Kenya
ATTACH;FMTTYPE=image/webp:https://walkingtribe.ke/wp-content/uploads/2026/03/WALKINGTRIBE-March-Edition.webp
END:VEVENT
BEGIN:VEVENT
DTSTART;VALUE=DATE:20260228
DTEND;VALUE=DATE:20260301
DTSTAMP:20260421T233651
CREATED:20260205T104417Z
LAST-MODIFIED:20260205T113452Z
UID:10000004-1772236800-1772323199@walkingtribe.ke
SUMMARY:February Edition
DESCRIPTION:
URL:https://walkingtribe.ke/event/february-edition/
LOCATION:Red Brick Hotel\, Red Brick Hotel\, Silanga Road\, Karen\, Nairobi\, Kenya
ATTACH;FMTTYPE=image/jpeg:https://walkingtribe.ke/wp-content/uploads/2026/02/February-Edition.jpeg
END:VEVENT
BEGIN:VEVENT
DTSTART;VALUE=DATE:20260131
DTEND;VALUE=DATE:20260201
DTSTAMP:20260421T233651
CREATED:20260116T053121Z
LAST-MODIFIED:20260130T060942Z
UID:10000003-1769817600-1769903999@walkingtribe.ke
SUMMARY:January Imeisha
DESCRIPTION:
URL:https://walkingtribe.ke/event/january-imeisha/
LOCATION:Karen\,\, BEECLAN Garden\, Marist Lane\, Nairobi\, Kenya
ATTACH;FMTTYPE=image/jpeg:https://walkingtribe.ke/wp-content/uploads/2026/01/January-Imeisha-2.jpeg
END:VEVENT
END:VCALENDAR